BEGIN:VCALENDAR
VERSION:2.0
PRODID:-//Fast North Corp//Race Roster
CALSCALE:GREGORIAN
BEGIN:VEVENT
UID:855011_5293b322-1602-428b-a899-e603bfb8c585_1776602583@raceroster.com
DTSTAMP:20260419T124303Z
SUMMARY:Arkansas RRCA Grand Prix Series - The SoMa Main Street Mile
DTSTART;TZID=America/Chicago:20260605T190000
DTEND;TZID=America/Chicago:20260605T220000
URL;VALUE=URI:https://raceroster.com/events/2026/114891/arkansas-rrca-grand
 -prix-series-the-soma-main-street-mile
DESCRIPTION:See all event details at https://raceroster.com/events/2026/114
 891/arkansas-rrca-grand-prix-series-the-soma-main-street-mile
LOCATION:101-149 E Daisy L Gatson Bates Dr\, Little Rock\, AR 72202\, U.S.
END:VEVENT
END:VCALENDAR
