BEGIN:VCALENDAR
VERSION:2.0
PRODID:-//Fast North Corp//Race Roster
CALSCALE:GREGORIAN
BEGIN:VEVENT
UID:885473_6b1a2330-704b-4b99-b092-95d97ae1dee1_1776955379@raceroster.com
DTSTAMP:20260423T144259Z
SUMMARY:Active Foot Clinic Wodonga Running Festival 2026
DTSTART;TZID=Australia/Melbourne:20261011T070000
DTEND;TZID=Australia/Melbourne:20261011T100000
URL;VALUE=URI:https://raceroster.com/events/2026/115147/active-foot-clinic-
 wodonga-running-festival-2026
DESCRIPTION:Event schedule\n\nOctober 11 7:00 am GMT+11 - Bib Collection Op
 ens\nOctober 11 8:00 am GMT+11 - 10 km Race Start\nOctober 11 8:20 am GMT+
 11 - Fractel Half Marathon Race Start\nOctober 11 10:00 am GMT+11 - The Bo
 rder Mail 5 km Race Start\nOctober 11 10:30 am GMT+11 - 2 km Family Dash R
 ace Start\nOctober 11 10:45 am GMT+11 - Presentation\n\nSee all event deta
 ils at https://raceroster.com/events/2026/115147/active-foot-clinic-wodong
 a-running-festival-2026
LOCATION:Willow Park\, Wodonga VIC\, Australia
END:VEVENT
END:VCALENDAR
