BEGIN:VCALENDAR
VERSION:2.0
PRODID:-//Fast North Corp//Race Roster
CALSCALE:GREGORIAN
BEGIN:VEVENT
UID:870665_2af08f72-1a68-4dea-96e1-d8447743e66e_1777132995@raceroster.com
DTSTAMP:20260425T160315Z
SUMMARY:Kedron Running Festival 2026
DTSTART;TZID=Australia/Brisbane:20260927T050000
DTEND;TZID=Australia/Brisbane:20260927T080000
URL;VALUE=URI:https://raceroster.com/events/2026/115148/kedron-running-fest
 ival-2026
DESCRIPTION:Event schedule\n\nSeptember 27 5:30 am GMT+10 - Bib Collection 
 Opens\nSeptember 27 6:30 am GMT+10 - 10 km Race Start\nSeptember 27 6:50 a
 m GMT+10 - Half Marathon Race Start\nSeptember 27 8:00 am GMT+10 - 5 km Ra
 ce Start\nSeptember 27 8:30 am GMT+10 - 2 km Family Dash Race Start\nSepte
 mber 27 9:30 am GMT+10 - Presentation\n\nSee all event details at https://
 raceroster.com/events/2026/115148/kedron-running-festival-2026
LOCATION:Shaw Park\, Wavell Heights QLD\, Australia
END:VEVENT
END:VCALENDAR
