BEGIN:VCALENDAR
VERSION:2.0
PRODID:-//Fast North Corp//Race Roster
CALSCALE:GREGORIAN
BEGIN:VEVENT
UID:857611_79c057e2-e7eb-484d-a258-e48ab49611b6_1777048132@raceroster.com
DTSTAMP:20260424T162852Z
SUMMARY:National Chocolate Day: Run for Chocolates 5K/10K/13.1 DENVER/AUROR
 A
DTSTART;TZID=America/Denver:20260912T073000
DTEND;TZID=America/Denver:20260912T103000
URL;VALUE=URI:https://raceroster.com/events/2026/115222/national-chocolate-
 day-run-for-chocolates-5k10k131-denveraurora
DESCRIPTION:See all event details at https://raceroster.com/events/2026/115
 222/national-chocolate-day-run-for-chocolates-5k10k131-denveraurora
LOCATION:Piney Creek Hollow Park\, 6140 South Tower Road\, Centennial\, CO 
 80016\, U.S.A.
END:VEVENT
END:VCALENDAR
