BEGIN:VCALENDAR
VERSION:2.0
PRODID:-//Fast North Corp//Race Roster
CALSCALE:GREGORIAN
BEGIN:VEVENT
UID:883820_4314a617-472c-467b-aea0-05565a927610_1776601858@raceroster.com
DTSTAMP:20260419T123058Z
SUMMARY:Carver Old Home Day 5 Miler
DTSTART;TZID=America/New_York:20260725T080000
DTEND;TZID=America/New_York:20260725T110000
URL;VALUE=URI:https://raceroster.com/events/2026/115234/carver-old-home-day
 -5-miler
DESCRIPTION:See all event details at https://raceroster.com/events/2026/115
 234/carver-old-home-day-5-miler
LOCATION:Shurtleff Park\, Main Street\, Carver\, MA
END:VEVENT
END:VCALENDAR
