BEGIN:VCALENDAR
VERSION:2.0
PRODID:-//Fast North Corp//Race Roster
CALSCALE:GREGORIAN
BEGIN:VEVENT
UID:875323_8f103977-0504-41d3-9b6a-e08797608a23_1777113986@raceroster.com
DTSTAMP:20260425T104626Z
SUMMARY:Clearwater Lake Half Marathon
DTSTART;TZID=America/Winnipeg:20260719T083000
DTEND;TZID=America/Winnipeg:20260719T113000
URL;VALUE=URI:https://raceroster.com/events/2026/115300/clearwater-lake-hal
 f-marathon
DESCRIPTION:See all event details at https://raceroster.com/events/2026/115
 300/clearwater-lake-half-marathon
LOCATION:Clearwater Lake\, MB\, Canada
END:VEVENT
END:VCALENDAR
