BEGIN:VCALENDAR
VERSION:2.0
PRODID:-//Fast North Corp//Race Roster
CALSCALE:GREGORIAN
BEGIN:VEVENT
UID:858762_c026f4be-c81e-454c-a426-12f8cb3111c1_1776948725@raceroster.com
DTSTAMP:20260423T125205Z
SUMMARY:Oktoberfest Run 5K/10K/13.1 KANSAS CITY
DTSTART;TZID=America/Chicago:20260926T073000
DTEND;TZID=America/Chicago:20260926T103000
URL;VALUE=URI:https://raceroster.com/events/2026/115383/oktoberfest-run-5k1
 0k131-kansas-city
DESCRIPTION:See all event details at https://raceroster.com/events/2026/115
 383/oktoberfest-run-5k10k131-kansas-city
LOCATION:Mill Creek Park\, Broadway Boulevard\, Kansas City\, MO
END:VEVENT
END:VCALENDAR
