BEGIN:VCALENDAR
VERSION:2.0
PRODID:-//Fast North Corp//Race Roster
CALSCALE:GREGORIAN
BEGIN:VEVENT
UID:883984_4d1f8563-8921-4094-95da-975ed1433546_1776602494@raceroster.com
DTSTAMP:20260419T124134Z
SUMMARY:Ulnooweg Summer Solstice Run 2026
DTSTART;TZID=America/Halifax:20260620T074500
DTEND;TZID=America/Halifax:20260620T104500
URL;VALUE=URI:https://raceroster.com/events/2026/115528/ulnooweg-summer-sol
 stice-run-2026
DESCRIPTION:Event schedule\n\nJune 19 4:00 PM ADT - Registration Kit Pick u
 p (4-6pm - Day before)\nJune 20 6:30 AM ADT - Registration Kit Pick up (da
 y of)\nJune 20 8:00 AM ADT - Opening Ceremony\nJune 20 8:05 AM ADT - Warm 
 up\nJune 20 8:15 AM ADT - 10K Start\nJune 20 8:30 AM ADT - 5k Start\nJune 
 20 8:45 AM ADT - 2k Start\nJune 20 9:15 AM ADT - Post-Run Breakfast Social
 \nJune 20 9:45 AM ADT - Closing Awards Ceremony\nJune 20 10:30 AM ADT - Ev
 ent Concludes\n\nSee all event details at https://raceroster.com/events/20
 26/115528/ulnooweg-summer-solstice-run-2026
LOCATION:Legends Gaming Centre\, Legends Avenue\, Millbrook\, NS\, Canada
END:VEVENT
END:VCALENDAR
