BEGIN:VCALENDAR
VERSION:2.0
PRODID:-//Fast North Corp//Race Roster
CALSCALE:GREGORIAN
BEGIN:VEVENT
UID:859747_aba412fa-1d4f-4566-a2d3-50a64fa688b3_1776873942@raceroster.com
DTSTAMP:20260422T160542Z
SUMMARY:Eckert's Versailles Orchard Donut Dash 5k
DTSTART;TZID=America/New_York:20260621T000000
DTEND;TZID=America/New_York:20260621T030000
URL;VALUE=URI:https://raceroster.com/events/2026/115539/eckerts-versailles-
 orchard-donut-dash-5k
DESCRIPTION:See all event details at https://raceroster.com/events/2026/115
 539/eckerts-versailles-orchard-donut-dash-5k
LOCATION:Eckert's Orchard\, Pinckard Pike\, Versailles\, KY
END:VEVENT
END:VCALENDAR
