BEGIN:VCALENDAR
VERSION:2.0
PRODID:-//Fast North Corp//Race Roster
CALSCALE:GREGORIAN
BEGIN:VEVENT
UID:884056_f78465ed-4e26-4b80-88dc-31be0896199e_1776602173@raceroster.com
DTSTAMP:20260419T123613Z
SUMMARY:Tour de L'Alberta - Biking Like a Viking
DTSTART;TZID=America/Edmonton:20260712T080000
DTEND;TZID=America/Edmonton:20260712T110000
URL;VALUE=URI:https://raceroster.com/events/2026/115540/tour-de-lalberta-bi
 king-like-a-viking
DESCRIPTION:Event schedule\n\nJuly 12 8:00 AM MDT - Start Century Rides  (1
 60 km)\nJuly 12 9:00 AM MDT - Start Metric Century Rides (+/- 100 km)\nJul
 y 12 10:00 AM MDT - Start Half Century Ride (+/- 55 km) &amp\; Beaver Hill
 s Biosphere Tour (+/- 35 km)\nJuly 12 11:59 AM MDT - Start Finish Line Cat
 ering\nJuly 12 4:00 PM MDT - Close Finish Line Catering\nJuly 12 5:00 PM M
 DT - Finish Line Closes\n\nSee all event details at https://raceroster.com
 /events/2026/115540/tour-de-lalberta-biking-like-a-viking
LOCATION:Strathcona Olympiette Centre\, Ceretzke Road\, Sherwood Park\, AB\
 , Canada
END:VEVENT
END:VCALENDAR
