BEGIN:VCALENDAR
VERSION:2.0
PRODID:-//Fast North Corp//Race Roster
CALSCALE:GREGORIAN
BEGIN:VEVENT
UID:860637_ee85eca4-9379-49e7-b69f-14c2f823870d_1777048049@raceroster.com
DTSTAMP:20260424T162729Z
SUMMARY:OC Night in Venice 5k
DTSTART;TZID=America/New_York:20260725T080000
DTEND;TZID=America/New_York:20260725T110000
URL;VALUE=URI:https://raceroster.com/events/2026/115683/oc-night-in-venice-
 5k
DESCRIPTION:See all event details at https://raceroster.com/events/2026/115
 683/oc-night-in-venice-5k
LOCATION:1735 Simpson Ave\, Ocean City\, NJ 08226 US
END:VEVENT
END:VCALENDAR
