BEGIN:VCALENDAR
VERSION:2.0
PRODID:-//Fast North Corp//Race Roster
CALSCALE:GREGORIAN
BEGIN:VEVENT
UID:870387_4a8f546c-9ca1-42db-9bfc-eefa411cae8b_1776957814@raceroster.com
DTSTAMP:20260423T152334Z
SUMMARY:Run Sage Creek 2026
DTSTART;TZID=America/Winnipeg:20260912T083000
DTEND;TZID=America/Winnipeg:20260912T113000
URL;VALUE=URI:https://raceroster.com/events/2026/115765/run-sage-creek-2026
DESCRIPTION:See all event details at https://raceroster.com/events/2026/115
 765/run-sage-creek-2026
LOCATION:Ron Duhamel Park\, Winnipeg\, MB\, Canada
END:VEVENT
END:VCALENDAR
