BEGIN:VCALENDAR
VERSION:2.0
PRODID:-//Fast North Corp//Race Roster
CALSCALE:GREGORIAN
BEGIN:VEVENT
UID:867995_0a6669fd-b243-420b-82e7-00faf829e3f8_1776778195@raceroster.com
DTSTAMP:20260421T132955Z
SUMMARY:Allan & Tracy MacKenzie Memorial 5K Walk/Run for Autism
DTSTART;TZID=America/Halifax:20260524T100000
DTEND;TZID=America/Halifax:20260524T130000
URL;VALUE=URI:https://raceroster.com/events/2026/115798/allan-and-tracy-mac
 kenzie-memorial-5k-walkrun-for-autism
DESCRIPTION:Event schedule\n\nMay 24 9:00 AM ADT - Registration\nMay 24 10:
 00 AM ADT - Race start\n\nSee all event details at https://raceroster.com/
 events/2026/115798/allan-and-tracy-mackenzie-memorial-5k-walkrun-for-autis
 m
LOCATION:89 Kent St\, Charlottetown\, PE\, Canada
END:VEVENT
END:VCALENDAR
