BEGIN:VCALENDAR
VERSION:2.0
PRODID:-//Fast North Corp//Race Roster
CALSCALE:GREGORIAN
BEGIN:VEVENT
UID:878149_c534b352-40cb-4458-9a77-6c0ef43c5741_1777164101@raceroster.com
DTSTAMP:20260426T004141Z
SUMMARY:Everyone Can...Run\, Walk & Roll 5K
DTSTART;TZID=America/Chicago:20260613T080000
DTEND;TZID=America/Chicago:20260613T110000
URL;VALUE=URI:https://raceroster.com/events/2026/115922/everyone-canrun-wal
 k-and-roll-5k
DESCRIPTION:See all event details at https://raceroster.com/events/2026/115
 922/everyone-canrun-walk-and-roll-5k
LOCATION:88 23rd Ave SW\, Rochester\, MN 55902
END:VEVENT
END:VCALENDAR
