BEGIN:VCALENDAR
VERSION:2.0
PRODID:-//Fast North Corp//Race Roster
CALSCALE:GREGORIAN
BEGIN:VEVENT
UID:880440_702a5734-3d9f-4761-b371-291e0fb926b1_1776986143@raceroster.com
DTSTAMP:20260423T231543Z
SUMMARY:DHES Blues & Shoes 5K and Family Run
DTSTART;TZID=America/Chicago:20260627T080000
DTEND;TZID=America/Chicago:20260627T110000
URL;VALUE=URI:https://raceroster.com/events/2026/115923/dhes-blues-and-shoe
 s-5k-and-family-run
DESCRIPTION:Event schedule\n\nJune 25 4:00 PM CDT - Pre Race Packet Pick Up
  4P-6P\nJune 26 2:30 PM CDT - Pre Race Packet Pick Up 2:30P-4:30P\nJune 27
  6:30 AM CDT - Race Day Packet Pick Up and Registration\nJune 27 8:00 AM C
 DT - 5K Start\nJune 27 9:00 AM CDT - 1K Start\n\nSee all event details at 
 https://raceroster.com/events/2026/115923/dhes-blues-and-shoes-5k-and-fami
 ly-run
LOCATION:Carpenter Park\, Carpenter Blvd\, Carpentersville\, IL
END:VEVENT
END:VCALENDAR
