BEGIN:VCALENDAR
VERSION:2.0
PRODID:-//Fast North Corp//Race Roster
CALSCALE:GREGORIAN
BEGIN:VEVENT
UID:862670_3235f29c-4f28-431d-9d62-f8b6a4b754c9_1777148639@raceroster.com
DTSTAMP:20260425T202359Z
SUMMARY:Angel Dash - Puyallup\, WA
DTSTART;TZID=America/Los_Angeles:20260530T090000
DTEND;TZID=America/Los_Angeles:20260530T120000
URL;VALUE=URI:https://raceroster.com/events/2026/116007/angel-dash-puyallup
 -wa
DESCRIPTION:See all event details at https://raceroster.com/events/2026/116
 007/angel-dash-puyallup-wa
LOCATION:Bradley Lake Park\, 31st Avenue Southeast\, Puyallup\, WA
END:VEVENT
END:VCALENDAR
