BEGIN:VCALENDAR
VERSION:2.0
PRODID:-//Fast North Corp//Race Roster
CALSCALE:GREGORIAN
BEGIN:VEVENT
UID:872940_091e3049-1c8c-4314-bea5-b9f8c814203b_1776991684@raceroster.com
DTSTAMP:20260424T004804Z
SUMMARY:Bristol Progress Days 5K and 1.5 Mile Run/Walk
DTSTART;TZID=America/Chicago:20260711T070000
DTEND;TZID=America/Chicago:20260711T100000
URL;VALUE=URI:https://raceroster.com/events/2026/116040/bristol-progress-da
 ys-5k-and-15-mile-runwalk
DESCRIPTION:Event schedule\n\nJuly 10 5:00 PM CDT - Pre Race Day Packet Pic
 k Up at Briston Town Hall 5P-7P\nJuly 11 6:00 AM CDT - On Site Check in &a
 mp\; Registration\nJuly 11 7:00 AM CDT - 5K Race Start\nJuly 11 7:15 AM CD
 T - 1.5 Mile Walk Start\n\nSee all event details at https://raceroster.com
 /events/2026/116040/bristol-progress-days-5k-and-15-mile-runwalk
LOCATION:Bristol Village Hall\, 83rd Street\, Bristol\, WI
END:VEVENT
END:VCALENDAR
