BEGIN:VCALENDAR
VERSION:2.0
PRODID:-//Fast North Corp//Race Roster
CALSCALE:GREGORIAN
BEGIN:VEVENT
UID:863523_01219642-9e20-4921-a41f-eda5988d0510_1776968342@raceroster.com
DTSTAMP:20260423T181902Z
SUMMARY:Race 1 – INDIVIDUAL ENTRY - MA & LJ Bates Plumbing / Patrick St C
 linic Teams 4×5 km Handicap
DTSTART;TZID=Australia/Hobart:20260419T093000
DTEND;TZID=Australia/Hobart:20260419T123000
URL;VALUE=URI:https://raceroster.com/events/2026/116125/race-1-individual-e
 ntry-ma-and-lj-bates-plumbing-patrick-st-clinic-teams-45-km-handicap
DESCRIPTION:See all event details at https://raceroster.com/events/2026/116
 125/race-1-individual-entry-ma-and-lj-bates-plumbing-patrick-st-clinic-tea
 ms-45-km-handicap
LOCATION:Penguin Surf Life Saving Club\, Preservation Drive\, Preservation 
 Bay TAS\, Australia
END:VEVENT
END:VCALENDAR
