BEGIN:VCALENDAR
VERSION:2.0
PRODID:-//Fast North Corp//Race Roster
CALSCALE:GREGORIAN
BEGIN:VEVENT
UID:883274_0f899ab8-0c85-472b-964e-187bbaf70655_1776772671@raceroster.com
DTSTAMP:20260421T115751Z
SUMMARY:Lancaster 5K - 34th Annual
DTSTART;TZID=America/New_York:20260725T100000
DTEND;TZID=America/New_York:20260725T130000
URL;VALUE=URI:https://raceroster.com/events/2026/116150/lancaster-5k-34th-a
 nnual
DESCRIPTION:See all event details at https://raceroster.com/events/2026/116
 150/lancaster-5k-34th-annual
LOCATION:1 Middle St\, Lancaster\, NH 03584
END:VEVENT
END:VCALENDAR
