BEGIN:VCALENDAR
VERSION:2.0
PRODID:-//Fast North Corp//Race Roster
CALSCALE:GREGORIAN
BEGIN:VEVENT
UID:863881_13dcd78f-0987-40e4-a8ef-562ce7199dd0_1776948735@raceroster.com
DTSTAMP:20260423T125215Z
SUMMARY:Race 4 - Sports Power Burnie & Wynyard Fitness Teams 3 x 2 x 3.5km 
 Handicap
DTSTART;TZID=Australia/Hobart:20260517T093000
DTEND;TZID=Australia/Hobart:20260517T123000
URL;VALUE=URI:https://raceroster.com/events/2026/116156/race-4-sports-power
 -burnie-and-wynyard-fitness-teams-3-x-2-x-35km-handicap
DESCRIPTION:See all event details at https://raceroster.com/events/2026/116
 156/race-4-sports-power-burnie-and-wynyard-fitness-teams-3-x-2-x-35km-hand
 icap
LOCATION:Turners Beach Seagulls Football Club\, Esplanade\, Turners Beach T
 AS\, Australia
END:VEVENT
END:VCALENDAR
