BEGIN:VCALENDAR
VERSION:2.0
PRODID:-//Fast North Corp//Race Roster
CALSCALE:GREGORIAN
BEGIN:VEVENT
UID:863890_42289a64-c0be-4f8b-9b9f-544a528c5640_1776948726@raceroster.com
DTSTAMP:20260423T125206Z
SUMMARY:Race 5 - Anvers Tasmania 10km Handicap
DTSTART;TZID=Australia/Hobart:20260524T093000
DTEND;TZID=Australia/Hobart:20260524T123000
URL;VALUE=URI:https://raceroster.com/events/2026/116158/race-5-anvers-tasma
 nia-10km-handicap
DESCRIPTION:See all event details at https://raceroster.com/events/2026/116
 158/race-5-anvers-tasmania-10km-handicap
LOCATION:Goliath Park Playground\, Railton TAS\, Australia
END:VEVENT
END:VCALENDAR
