BEGIN:VCALENDAR
VERSION:2.0
PRODID:-//Fast North Corp//Race Roster
CALSCALE:GREGORIAN
BEGIN:VEVENT
UID:863723_2bb86692-03e9-478a-9a9d-870298bd3f01_1776948726@raceroster.com
DTSTAMP:20260423T125206Z
SUMMARY:Race 7A - Ron Gee Enterprises Iron Trail 23km Handicap
DTSTART;TZID=Australia/Hobart:20260614T090000
DTEND;TZID=Australia/Hobart:20260614T120000
URL;VALUE=URI:https://raceroster.com/events/2026/116160/race-7a-ron-gee-ent
 erprises-iron-trail-23km-handicap
DESCRIPTION:See all event details at https://raceroster.com/events/2026/116
 160/race-7a-ron-gee-enterprises-iron-trail-23km-handicap
LOCATION:Wild Mersey Mountain Bike Trails\, Latrobe Trailhead\, Latrobe TAS
 \, Australia
END:VEVENT
END:VCALENDAR
