BEGIN:VCALENDAR
VERSION:2.0
PRODID:-//Fast North Corp//Race Roster
CALSCALE:GREGORIAN
BEGIN:VEVENT
UID:863728_02a929e0-3e07-47d9-83b3-5330a0a4bd46_1776948725@raceroster.com
DTSTAMP:20260423T125205Z
SUMMARY:Race 7B – INDIVIDUAL ENTRY - Hillcrest Consulting Teams 2 x 11.5k
 m Handicap
DTSTART;TZID=Australia/Hobart:20260614T090000
DTEND;TZID=Australia/Hobart:20260614T120000
URL;VALUE=URI:https://raceroster.com/events/2026/116163/race-7b-individual-
 entry-hillcrest-consulting-teams-2-x-115km-handicap
DESCRIPTION:See all event details at https://raceroster.com/events/2026/116
 163/race-7b-individual-entry-hillcrest-consulting-teams-2-x-115km-handicap
LOCATION:Wild Mersey Mountain Bike Trails\, Latrobe Trailhead\, Latrobe TAS
 \, Australia
END:VEVENT
END:VCALENDAR
