BEGIN:VCALENDAR
VERSION:2.0
PRODID:-//Fast North Corp//Race Roster
CALSCALE:GREGORIAN
BEGIN:VEVENT
UID:863895_07979bf6-4b6d-49c7-9ead-48f453c3c867_1776948811@raceroster.com
DTSTAMP:20260423T125331Z
SUMMARY:Race 9 - Troy Atkins Accounting City of Devonport 10km Sealed Handi
 cap (inc Men's/Women's Champs)
DTSTART;TZID=Australia/Hobart:20260628T093000
DTEND;TZID=Australia/Hobart:20260628T123000
URL;VALUE=URI:https://raceroster.com/events/2026/116168/race-9-troy-atkins-
 accounting-city-of-devonport-10km-sealed-handicap-inc-menswomens-champs
DESCRIPTION:See all event details at https://raceroster.com/events/2026/116
 168/race-9-troy-atkins-accounting-city-of-devonport-10km-sealed-handicap-i
 nc-menswomens-champs
LOCATION:Bluff Playgrounds\, Bluff Road\, Devonport TAS\, Australia
END:VEVENT
END:VCALENDAR
