BEGIN:VCALENDAR
VERSION:2.0
PRODID:-//Fast North Corp//Race Roster
CALSCALE:GREGORIAN
BEGIN:VEVENT
UID:863898_4074ab8a-4b8e-4e16-bca3-955371f19db2_1776948727@raceroster.com
DTSTAMP:20260423T125207Z
SUMMARY:Race 10 - Evolve Sport and Leisure 7km Handicap
DTSTART;TZID=Australia/Hobart:20260705T093000
DTEND;TZID=Australia/Hobart:20260705T123000
URL;VALUE=URI:https://raceroster.com/events/2026/116169/race-10-evolve-spor
 t-and-leisure-7km-handicap
DESCRIPTION:See all event details at https://raceroster.com/events/2026/116
 169/race-10-evolve-sport-and-leisure-7km-handicap
LOCATION:Flour Mill Bay\, Melrose Street\, East Devonport TAS\, Australia
END:VEVENT
END:VCALENDAR
