BEGIN:VCALENDAR
VERSION:2.0
PRODID:-//Fast North Corp//Race Roster
CALSCALE:GREGORIAN
BEGIN:VEVENT
UID:863750_438a3119-c567-4cf2-bad2-fa906477e0c6_1776692174@raceroster.com
DTSTAMP:20260420T133614Z
SUMMARY:Race 12A - AJL Lifestyle/AJL Yamaha Half Marathon Handicap
DTSTART;TZID=Australia/Hobart:20260726T093000
DTEND;TZID=Australia/Hobart:20260726T123000
URL;VALUE=URI:https://raceroster.com/events/2026/116171/race-12a-ajl-lifest
 yleajl-yamaha-half-marathon-handicap
DESCRIPTION:See all event details at https://raceroster.com/events/2026/116
 171/race-12a-ajl-lifestyleajl-yamaha-half-marathon-handicap
LOCATION:Turners Beach Seagulls Football Club\, Esplanade\, Turners Beach T
 AS\, Australia
END:VEVENT
END:VCALENDAR
