BEGIN:VCALENDAR
VERSION:2.0
PRODID:-//Fast North Corp//Race Roster
CALSCALE:GREGORIAN
BEGIN:VEVENT
UID:863751_3770a194-e6b3-4447-8470-2b46660db9b3_1776948725@raceroster.com
DTSTAMP:20260423T125205Z
SUMMARY:Race 12B – Salty and Stevo Teams 2 x 10.55km Half Marathon Handic
 ap
DTSTART;TZID=Australia/Hobart:20260726T093000
DTEND;TZID=Australia/Hobart:20260726T123000
URL;VALUE=URI:https://raceroster.com/events/2026/116172/race-12b-salty-and-
 stevo-teams-2-x-1055km-half-marathon-handicap
DESCRIPTION:See all event details at https://raceroster.com/events/2026/116
 172/race-12b-salty-and-stevo-teams-2-x-1055km-half-marathon-handicap
LOCATION:Turners Beach Seagulls Football Club\, Esplanade\, Turners Beach T
 AS\, Australia
END:VEVENT
END:VCALENDAR
