BEGIN:VCALENDAR
VERSION:2.0
PRODID:-//Fast North Corp//Race Roster
CALSCALE:GREGORIAN
BEGIN:VEVENT
UID:863899_20b8b291-bb9c-4585-b0bf-2fe3fc4ec908_1776948726@raceroster.com
DTSTAMP:20260423T125206Z
SUMMARY:Race 13 - Dowling McCarthy Tyres ‘Ken Williams Memorial’ 8km Ha
 ndicap
DTSTART;TZID=Australia/Hobart:20260802T103000
DTEND;TZID=Australia/Hobart:20260802T133000
URL;VALUE=URI:https://raceroster.com/events/2026/116174/race-13-dowling-mcc
 arthy-tyres-ken-williams-memorial-8km-handicap
DESCRIPTION:See all event details at https://raceroster.com/events/2026/116
 174/race-13-dowling-mccarthy-tyres-ken-williams-memorial-8km-handicap
LOCATION:Stanley Recreation Ground\, Marine Esplanade\, Stanley TAS\, Austr
 alia
END:VEVENT
END:VCALENDAR
