BEGIN:VCALENDAR
VERSION:2.0
PRODID:-//Fast North Corp//Race Roster
CALSCALE:GREGORIAN
BEGIN:VEVENT
UID:863814_e4c50bcb-dc72-4c5f-8064-2307f29dbe23_1776601268@raceroster.com
DTSTAMP:20260419T122108Z
SUMMARY:The Metropolitan 5K
DTSTART;TZID=America/New_York:20260619T080000
DTEND;TZID=America/New_York:20260619T110000
URL;VALUE=URI:https://raceroster.com/events/2026/116186/the-metropolitan-5k
DESCRIPTION:See all event details at https://raceroster.com/events/2026/116
 186/the-metropolitan-5k
LOCATION:E.F.F.E.C.T Fitness\, 1955B Metropolitan Parkway Southwest\, Atlan
 ta\, GA  30315
END:VEVENT
END:VCALENDAR
