BEGIN:VCALENDAR
VERSION:2.0
PRODID:-//Fast North Corp//Race Roster
CALSCALE:GREGORIAN
BEGIN:VEVENT
UID:863824_3fd254b8-eb84-4cfd-a39a-2be8570b0b5e_1776948738@raceroster.com
DTSTAMP:20260423T125219Z
SUMMARY:Race 14 – INDIVIDUAL ENTRY - Bitumen 2 Bush / Bonneville Consulti
 ng Teams Mara 4x10.55km Handicap
DTSTART;TZID=Australia/Hobart:20260816T080000
DTEND;TZID=Australia/Hobart:20260816T110000
URL;VALUE=URI:https://raceroster.com/events/2026/116193/race-14-individual-
 entry-bitumen-2-bush-bonneville-consulting-teams-mara-4x1055km-handicap
DESCRIPTION:See all event details at https://raceroster.com/events/2026/116
 193/race-14-individual-entry-bitumen-2-bush-bonneville-consulting-teams-ma
 ra-4x1055km-handicap
LOCATION:Cricket Ground\, River Road\, West Ulverstone TAS\, Australia
END:VEVENT
END:VCALENDAR
