BEGIN:VCALENDAR
VERSION:2.0
PRODID:-//Fast North Corp//Race Roster
CALSCALE:GREGORIAN
BEGIN:VEVENT
UID:875443_45a0714d-5c1b-4e8d-8fa8-20faabc88dbf_1776721311@raceroster.com
DTSTAMP:20260420T214151Z
SUMMARY:Rising Sun Wine&Win 5K
DTSTART;TZID=America/Chicago:20260426T100000
DTEND;TZID=America/Chicago:20260426T130000
URL;VALUE=URI:https://raceroster.com/events/2026/116242/rising-sun-wine-and
 -win-5k
DESCRIPTION:See all event details at https://raceroster.com/events/2026/116
 242/rising-sun-wine-and-win-5k
LOCATION:Rising Sun Vineyard\, 233 Edmonson Ranch Rd\, McDade\, TX 78650\, 
 U.S.
END:VEVENT
END:VCALENDAR
