BEGIN:VCALENDAR
VERSION:2.0
PRODID:-//Fast North Corp//Race Roster
CALSCALE:GREGORIAN
BEGIN:VEVENT
UID:864338_19ef7aa5-8eb3-4a43-8ebc-01a54826af36_1777048049@raceroster.com
DTSTAMP:20260424T162729Z
SUMMARY:Eat The Rainbow Challenge 2026
DTSTART;TZID=America/Winnipeg:20260330T000000
DTEND;TZID=America/Winnipeg:20260330T030000
URL;VALUE=URI:https://raceroster.com/events/2026/116297/eat-the-rainbow-cha
 llenge-2026
DESCRIPTION:See all event details at https://raceroster.com/events/2026/116
 297/eat-the-rainbow-challenge-2026
LOCATION:CFB Shilo\, Shilo\, MB\, Canada
END:VEVENT
END:VCALENDAR
