BEGIN:VCALENDAR
VERSION:2.0
PRODID:-//Fast North Corp//Race Roster
CALSCALE:GREGORIAN
BEGIN:VEVENT
UID:864799_4fe65a14-7351-48e7-8591-8d29e8b92281_1776601782@raceroster.com
DTSTAMP:20260419T122942Z
SUMMARY:Kicking PancreAS™ 5K - Alberta
DTSTART;TZID=America/Edmonton:20260613T183000
DTEND;TZID=America/Edmonton:20260613T213000
URL;VALUE=URI:https://raceroster.com/events/2026/116372/kicking-pancreas-5k
 -alberta
DESCRIPTION:See all event details at https://raceroster.com/events/2026/116
 372/kicking-pancreas-5k-alberta
LOCATION:Calgary\, AB\, Canada
END:VEVENT
END:VCALENDAR
