BEGIN:VCALENDAR
VERSION:2.0
PRODID:-//Fast North Corp//Race Roster
CALSCALE:GREGORIAN
BEGIN:VEVENT
UID:872332_71307e75-6ab3-47fe-ba3b-2b394f4f5b7f_1776778149@raceroster.com
DTSTAMP:20260421T132909Z
SUMMARY:Evermoore Brewing Company 5 Miler Presented By the PEI Marathon
DTSTART;TZID=America/Halifax:20260531T090000
DTEND;TZID=America/Halifax:20260531T120000
URL;VALUE=URI:https://raceroster.com/events/2026/116389/evermoore-brewing-c
 ompany-5-miler-presented-by-the-pei-marathon
DESCRIPTION:See all event details at https://raceroster.com/events/2026/116
 389/evermoore-brewing-company-5-miler-presented-by-the-pei-marathon
LOCATION:192 Water Street\, Summerside\, PE\, Canada
END:VEVENT
END:VCALENDAR
