BEGIN:VCALENDAR
VERSION:2.0
PRODID:-//Fast North Corp//Race Roster
CALSCALE:GREGORIAN
BEGIN:VEVENT
UID:882848_c83c0392-c470-4497-8378-5f5ae1e01286_1776758451@raceroster.com
DTSTAMP:20260421T080051Z
SUMMARY:Hope K
DTSTART;TZID=America/Chicago:20260620T080000
DTEND;TZID=America/Chicago:20260620T110000
URL;VALUE=URI:https://raceroster.com/events/2026/116408/hope-k
DESCRIPTION:Event schedule\n\nJune 20 8:00 AM CDT - Race Day Registration B
 egins\nJune 20 9:00 AM CDT - 5K/10K Run Starts (chip timed)\nJune 20 10:00
  AM CDT - HopeWalk (for HopeKids families)\nJune 20 11:00 AM CDT - Kids Fu
 n Run\nJune 20 11:00 AM CDT - Lunch Begins\n\nSee all event details at htt
 ps://raceroster.com/events/2026/116408/hope-k
LOCATION:16965 Brandtjen Farm Drive\, Lakeville\, MN 55044\, USA
END:VEVENT
END:VCALENDAR
