BEGIN:VCALENDAR
VERSION:2.0
PRODID:-//Fast North Corp//Race Roster
CALSCALE:GREGORIAN
BEGIN:VEVENT
UID:865825_453b7edb-01f2-43c9-af11-208d48e95042_1777008501@raceroster.com
DTSTAMP:20260424T052821Z
SUMMARY:Morris Hospital & Healthcare Centers Corn Fest 5K
DTSTART;TZID=America/Chicago:20260926T090000
DTEND;TZID=America/Chicago:20260926T120000
URL;VALUE=URI:https://raceroster.com/events/2026/116501/morris-hospital-and
 -healthcare-centers-corn-fest-5k
DESCRIPTION:Event schedule\n\nSeptember 26 7:30 AM CDT - On Site Check in &
 amp\; Registration\nSeptember 26 8:15 AM CDT - Fun Run (Ages 6-10)\nSeptem
 ber 26 8:30 AM CDT - Fun Run (Ages 5 &amp\; Under)\nSeptember 26 9:00 AM C
 DT - 5K Race Start\n\nSee all event details at https://raceroster.com/even
 ts/2026/116501/morris-hospital-and-healthcare-centers-corn-fest-5k
LOCATION:Morris Elementary School\, 2001 Dupont Avenue\, Morris\, IL\, Unit
 ed States
END:VEVENT
END:VCALENDAR
