BEGIN:VCALENDAR
VERSION:2.0
PRODID:-//Fast North Corp//Race Roster
CALSCALE:GREGORIAN
BEGIN:VEVENT
UID:869390_5c07d3b2-5531-4cec-b0e8-a454ae61d01e_1776601782@raceroster.com
DTSTAMP:20260419T122942Z
SUMMARY:Frisco Education Foundation Mindbender Academy
DTSTART;TZID=America/Chicago:20260601T080000
DTEND;TZID=America/Chicago:20260601T110000
URL;VALUE=URI:https://raceroster.com/events/2026/116502/frisco-education-fo
 undation-mindbender-academy
DESCRIPTION:See all event details at https://raceroster.com/events/2026/116
 502/frisco-education-foundation-mindbender-academy
LOCATION:9889 Wade Blvd\, Frisco\, TX 75035
END:VEVENT
END:VCALENDAR
