BEGIN:VCALENDAR
VERSION:2.0
PRODID:-//Fast North Corp//Race Roster
CALSCALE:GREGORIAN
BEGIN:VEVENT
UID:884368_6cd1b3ed-a7eb-465b-bde1-325f9d4cb8e2_1776779443@raceroster.com
DTSTAMP:20260421T135043Z
SUMMARY:Run Like HECS
DTSTART;TZID=America/Halifax:20260606T090000
DTEND;TZID=America/Halifax:20260606T120000
URL;VALUE=URI:https://raceroster.com/events/2026/116518/run-like-hecs
DESCRIPTION:See all event details at https://raceroster.com/events/2026/116
 518/run-like-hecs
LOCATION:Point Pleasant Park\, Point Pleasant Drive\, Halifax\, NS\, Canada
END:VEVENT
END:VCALENDAR
