BEGIN:VCALENDAR
VERSION:2.0
PRODID:-//Fast North Corp//Race Roster
CALSCALE:GREGORIAN
BEGIN:VEVENT
UID:869741_7fd3c561-5739-4b92-a4f2-cce6f09f7d71_1777004671@raceroster.com
DTSTAMP:20260424T042431Z
SUMMARY:Frankfort Police Department "All Abilities" 5K Walk\, Run & Wheel f
 or Special Olympics
DTSTART;TZID=America/Chicago:20260606T090000
DTEND;TZID=America/Chicago:20260606T120000
URL;VALUE=URI:https://raceroster.com/events/2026/116528/frankfort-police-de
 partment-all-abilities-5k-walk-run-and-wheel-for-special-olympics
DESCRIPTION:Event schedule\n\nJune 6 8:00 AM CDT - Race Day Registration an
 d Packet Pick Up\nJune 6 9:00 AM CDT - 5K Run/Walk/Wheel Start\n\nSee all 
 event details at https://raceroster.com/events/2026/116528/frankfort-polic
 e-department-all-abilities-5k-walk-run-and-wheel-for-special-olympics
LOCATION:Breidert Green Park\, Frankfort\, IL\, USA
END:VEVENT
END:VCALENDAR
