BEGIN:VCALENDAR
VERSION:2.0
PRODID:-//Fast North Corp//Race Roster
CALSCALE:GREGORIAN
BEGIN:VEVENT
UID:866332_b01d9591-88c1-4914-9a00-11193fa07f04_1776601782@raceroster.com
DTSTAMP:20260419T122942Z
SUMMARY:Salted Vines Wine Run 5k
DTSTART;TZID=America/New_York:20260614T000000
DTEND;TZID=America/New_York:20260614T030000
URL;VALUE=URI:https://raceroster.com/events/2026/116565/salted-vines-wine-r
 un-5k
DESCRIPTION:See all event details at https://raceroster.com/events/2026/116
 565/salted-vines-wine-run-5k
LOCATION:Salted Vines Vineyard & Winery\, Road 374\, Frankford\, DE
END:VEVENT
END:VCALENDAR
