BEGIN:VCALENDAR
VERSION:2.0
PRODID:-//Fast North Corp//Race Roster
CALSCALE:GREGORIAN
BEGIN:VEVENT
UID:884586_1fd3c9ae-bdaa-42f0-8fb8-55daf451416b_1776862673@raceroster.com
DTSTAMP:20260422T125753Z
SUMMARY:Raue Center's Night Owl Bike Ride 2026
DTSTART;TZID=America/Chicago:20260808T200000
DTEND;TZID=America/Chicago:20260808T230000
URL;VALUE=URI:https://raceroster.com/events/2026/116604/raue-centers-night-
 owl-bike-ride-2026
DESCRIPTION:See all event details at https://raceroster.com/events/2026/116
 604/raue-centers-night-owl-bike-ride-2026
LOCATION:26 North Williams Street\, Crystal Lake\, IL
END:VEVENT
END:VCALENDAR
