BEGIN:VCALENDAR
VERSION:2.0
PRODID:-//Fast North Corp//Race Roster
CALSCALE:GREGORIAN
BEGIN:VEVENT
UID:866809_31e8c4bf-6b94-4708-a2ae-0593fd5928ab_1776861191@raceroster.com
DTSTAMP:20260422T123311Z
SUMMARY:Uff DA Half Marathon\, 10K & 5K
DTSTART;TZID=America/Chicago:20260516T080000
DTEND;TZID=America/Chicago:20260516T110000
URL;VALUE=URI:https://raceroster.com/events/2026/116627/uff-da-half-maratho
 n-10k-and-5k
DESCRIPTION:Event schedule\n\nMay 16 6:00 AM CDT - Packet pickup\nMay 16 8:
 00 AM CDT - Half Marathon start\nMay 16 8:10 AM CDT - 10K Start\nMay 16 8:
 20 AM CDT - 5K\n\nSee all event details at https://raceroster.com/events/2
 026/116627/uff-da-half-marathon-10k-and-5k
LOCATION:Zion Lutheran Church\, Lockwood Street\, Woodville\, WI
END:VEVENT
END:VCALENDAR
