BEGIN:VCALENDAR
VERSION:2.0
PRODID:-//Fast North Corp//Race Roster
CALSCALE:GREGORIAN
BEGIN:VEVENT
UID:883403_ee69fe76-863f-4a02-9252-d36fcbca48be_1776601859@raceroster.com
DTSTAMP:20260419T123059Z
SUMMARY:Ray & Cindy Bertram's Southport Alumni Golf Outing
DTSTART;TZID=America/Indiana/Indianapolis:20260723T090000
DTEND;TZID=America/Indiana/Indianapolis:20260723T120000
URL;VALUE=URI:https://raceroster.com/events/2026/116671/ray-and-cindy-bertr
 ams-southport-alumni-golf-outing
DESCRIPTION:See all event details at https://raceroster.com/events/2026/116
 671/ray-and-cindy-bertrams-southport-alumni-golf-outing
LOCATION:Smock Golf Course\, County Line Road\, Indianapolis\, Indiana
END:VEVENT
END:VCALENDAR
