BEGIN:VCALENDAR
VERSION:2.0
PRODID:-//Fast North Corp//Race Roster
CALSCALE:GREGORIAN
BEGIN:VEVENT
UID:883554_bfc9607d-2ab6-4719-a1ce-40accba2634c_1776601855@raceroster.com
DTSTAMP:20260419T123055Z
SUMMARY:Montcalm Mile July 4th
DTSTART;TZID=America/New_York:20260704T134500
DTEND;TZID=America/New_York:20260704T164500
URL;VALUE=URI:https://raceroster.com/events/2026/116700/montcalm-mile-july-
 4th
DESCRIPTION:See all event details at https://raceroster.com/events/2026/116
 700/montcalm-mile-july-4th
LOCATION:1080 Wicker Street\, Ticonderoga\, NY
END:VEVENT
END:VCALENDAR
