BEGIN:VCALENDAR
VERSION:2.0
PRODID:-//Fast North Corp//Race Roster
CALSCALE:GREGORIAN
BEGIN:VEVENT
UID:877911_f133df12-4a0b-42e1-ba7f-fa0187a14817_1776604507@raceroster.com
DTSTAMP:20260419T131507Z
SUMMARY:Lunenburg 5km Road Race and Muffin Run 2026
DTSTART;TZID=America/Halifax:20260607T090000
DTEND;TZID=America/Halifax:20260607T120000
URL;VALUE=URI:https://raceroster.com/events/2026/116722/lunenburg-5km-road-
 race-and-muffin-run-2026
DESCRIPTION:Event schedule\n\nJune 7 8:00 AM ADT - Race Kit Pick up\nJune 7
  9:00 AM ADT - Start Time\n\nSee all event details at https://raceroster.c
 om/events/2026/116722/lunenburg-5km-road-race-and-muffin-run-2026
LOCATION:Lunenburg\, NS\, Canada
END:VEVENT
END:VCALENDAR
