BEGIN:VCALENDAR
VERSION:2.0
PRODID:-//Fast North Corp//Race Roster
CALSCALE:GREGORIAN
BEGIN:VEVENT
UID:867884_310b9ffd-43c1-482b-9eba-394d6ba976e4_1776601859@raceroster.com
DTSTAMP:20260419T123059Z
SUMMARY:Southern Capes Come and Try Day
DTSTART;TZID=Australia/Perth:20260315T090000
DTEND;TZID=Australia/Perth:20260315T120000
URL;VALUE=URI:https://raceroster.com/events/2026/116790/southern-capes-come
 -and-try-day
DESCRIPTION:See all event details at https://raceroster.com/events/2026/116
 790/southern-capes-come-and-try-day
LOCATION:37 Gibb Road\, Kaloorup WA\, Australia
END:VEVENT
END:VCALENDAR
