BEGIN:VCALENDAR
VERSION:2.0
PRODID:-//Fast North Corp//Race Roster
CALSCALE:GREGORIAN
BEGIN:VEVENT
UID:883374_a8079d8d-0350-4939-966a-41cf929f6d02_1776603410@raceroster.com
DTSTAMP:20260419T125650Z
SUMMARY:Seward Freedom Run - 2026
DTSTART;TZID=America/Chicago:20260704T070000
DTEND;TZID=America/Chicago:20260704T100000
URL;VALUE=URI:https://raceroster.com/events/2026/116890/seward-freedom-run-
 2026
DESCRIPTION:See all event details at https://raceroster.com/events/2026/116
 890/seward-freedom-run-2026
LOCATION:2764 Eaton Drummer Blvd\, Seward\, NE 68434\, United States
END:VEVENT
END:VCALENDAR
