BEGIN:VCALENDAR
VERSION:2.0
PRODID:-//Fast North Corp//Race Roster
CALSCALE:GREGORIAN
BEGIN:VEVENT
UID:879291_1d944f32-df9a-45d3-b439-7b0615101821_1776772777@raceroster.com
DTSTAMP:20260421T115937Z
SUMMARY:JAK-L Strides for Mental Health
DTSTART;TZID=America/New_York:20260613T090000
DTEND;TZID=America/New_York:20260613T120000
URL;VALUE=URI:https://raceroster.com/events/2026/116933/jak-l-strides-for-m
 ental-health
DESCRIPTION:See all event details at https://raceroster.com/events/2026/116
 933/jak-l-strides-for-mental-health
LOCATION:4 Maple Road\, Oxford\, MA
END:VEVENT
END:VCALENDAR
