BEGIN:VCALENDAR
VERSION:2.0
PRODID:-//Fast North Corp//Race Roster
CALSCALE:GREGORIAN
BEGIN:VEVENT
UID:872681_df5fba4d-5e4c-4e4b-8e45-857d7611f85a_1776950668@raceroster.com
DTSTAMP:20260423T132428Z
SUMMARY:Run to Rescue - 14th Annual
DTSTART;TZID=America/Chicago:20260808T080000
DTEND;TZID=America/Chicago:20260808T110000
URL;VALUE=URI:https://raceroster.com/events/2026/116989/run-to-rescue-14th-
 annual
DESCRIPTION:See all event details at https://raceroster.com/events/2026/116
 989/run-to-rescue-14th-annual
LOCATION:Czechland Lake\, Nebraska 79\, Prague\, NE
END:VEVENT
END:VCALENDAR
