BEGIN:VCALENDAR
VERSION:2.0
PRODID:-//Fast North Corp//Race Roster
CALSCALE:GREGORIAN
BEGIN:VEVENT
UID:870132_0ed06c48-861b-42d6-907f-bc481c4835cd_1776854888@raceroster.com
DTSTAMP:20260422T104808Z
SUMMARY:Haven Half Marathon\, 30k & 10k
DTSTART;TZID=America/Denver:20260725T080000
DTEND;TZID=America/Denver:20260725T110000
URL;VALUE=URI:https://raceroster.com/events/2026/117049/haven-half-marathon
 -30k-and-10k
DESCRIPTION:See all event details at https://raceroster.com/events/2026/117
 049/haven-half-marathon-30k-and-10k
LOCATION:Tomaha Trail\, Hisega\, SD
END:VEVENT
END:VCALENDAR
